BEGIN:VCALENDAR
VERSION:2.0
PRODID:-//Apna Health - ECPv6.15.16//NONSGML v1.0//EN
CALSCALE:GREGORIAN
METHOD:PUBLISH
X-WR-CALNAME:Apna Health
X-ORIGINAL-URL:https://apnahealth.stratasfear.com
X-WR-CALDESC:Events for Apna Health
REFRESH-INTERVAL;VALUE=DURATION:PT1H
X-Robots-Tag:noindex
X-PUBLISHED-TTL:PT1H
BEGIN:VTIMEZONE
TZID:America/Toronto
BEGIN:DAYLIGHT
TZOFFSETFROM:-0500
TZOFFSETTO:-0400
TZNAME:EDT
DTSTART:20240310T070000
END:DAYLIGHT
BEGIN:STANDARD
TZOFFSETFROM:-0400
TZOFFSETTO:-0500
TZNAME:EST
DTSTART:20241103T060000
END:STANDARD
BEGIN:DAYLIGHT
TZOFFSETFROM:-0500
TZOFFSETTO:-0400
TZNAME:EDT
DTSTART:20250309T070000
END:DAYLIGHT
BEGIN:STANDARD
TZOFFSETFROM:-0400
TZOFFSETTO:-0500
TZNAME:EST
DTSTART:20251102T060000
END:STANDARD
BEGIN:DAYLIGHT
TZOFFSETFROM:-0500
TZOFFSETTO:-0400
TZNAME:EDT
DTSTART:20260308T070000
END:DAYLIGHT
BEGIN:STANDARD
TZOFFSETFROM:-0400
TZOFFSETTO:-0500
TZNAME:EST
DTSTART:20261101T060000
END:STANDARD
END:VTIMEZONE
BEGIN:VEVENT
DTSTART;TZID=America/Toronto:20250121T180000
DTEND;TZID=America/Toronto:20250121T190000
DTSTAMP:20260419T191856
CREATED:20241217T172033Z
LAST-MODIFIED:20260222T231726Z
UID:5943-1737482400-1737486000@apnahealth.stratasfear.com
SUMMARY:Healthy Snacking
DESCRIPTION:Choosing Balanced & Nutritious Snacks!\nPresented by: Maiya Ahluwalia – Registered Dietitian Nourishing Balance\nYou will learn about: \n\nEasy and creative snacks for all ages and dietary needs\nTips for mindful snacking\nHealthier snack options when on the go\n\n*Please RSVP by Jan 20th\, 2025*\nRegister Here \nFor more information:\nvrajan@induscs.ca – 905-275-2369 Ext. 1222
URL:https://apnahealth.stratasfear.com/event/healthy-snacking/
ATTACH;FMTTYPE=image/png:https://apnahealth.stratasfear.com/wp-content/uploads/2024/12/freepik__expand__82005.png
END:VEVENT
END:VCALENDAR